BEGIN:VCALENDAR
VERSION:2.0
PRODID:-//Sheridan Brand - ECPv4.9.9//NONSGML v1.0//EN
CALSCALE:GREGORIAN
METHOD:PUBLISH
X-WR-CALNAME:Sheridan Brand
X-ORIGINAL-URL:http://sheridanbrand.com
X-WR-CALDESC:Events for Sheridan Brand
BEGIN:VTIMEZONE
TZID:America/Denver
BEGIN:DAYLIGHT
TZOFFSETFROM:-0700
TZOFFSETTO:-0600
TZNAME:MDT
DTSTART:20140309T090000
END:DAYLIGHT
BEGIN:STANDARD
TZOFFSETFROM:-0600
TZOFFSETTO:-0700
TZNAME:MST
DTSTART:20141102T080000
END:STANDARD
END:VTIMEZONE
BEGIN:VEVENT
DTSTART;TZID=America/Denver:20141017T070000
DTEND;TZID=America/Denver:20141017T210000
DTSTAMP:20260425T043401
CREATED:20141016T163647Z
LAST-MODIFIED:20141016T163647Z
UID:1043-1413529200-1413579600@sheridanbrand.com
SUMMARY:Cure\, Pass\, Set Lady Generals Volleyball
DESCRIPTION:Support the Sheridan College Lady Generals volleyball team on Friday as they fight for a cure and take on Northwest College at 7:00 pm at the Bruce Hoffman Golden Dome. \n
URL:http://sheridanbrand.com/event/cure-pass-set-lady-generals-volleyball/
LOCATION:Bruce Hoffman Golden Dome\, 3059 Coffeen Ave\, Sheridan\, WY\, 82801\, United States
CATEGORIES:Community
ATTACH;FMTTYPE=image/jpeg:http://sheridanbrand.com/wp-content/uploads/2014/10/10610586_799583966774550_4846360876163067641_n.jpg
END:VEVENT
END:VCALENDAR