BEGIN:VCALENDAR
VERSION:2.0
PRODID:-//Sheridan Brand - ECPv4.9.9//NONSGML v1.0//EN
CALSCALE:GREGORIAN
METHOD:PUBLISH
X-WR-CALNAME:Sheridan Brand
X-ORIGINAL-URL:http://sheridanbrand.com
X-WR-CALDESC:Events for Sheridan Brand
BEGIN:VTIMEZONE
TZID:America/Denver
BEGIN:DAYLIGHT
TZOFFSETFROM:-0700
TZOFFSETTO:-0600
TZNAME:MDT
DTSTART:20140309T090000
END:DAYLIGHT
BEGIN:STANDARD
TZOFFSETFROM:-0600
TZOFFSETTO:-0700
TZNAME:MST
DTSTART:20141102T080000
END:STANDARD
END:VTIMEZONE
BEGIN:VEVENT
DTSTART;TZID=America/Denver:20141029T183000
DTEND;TZID=America/Denver:20141029T203000
DTSTAMP:20260425T004005
CREATED:20141029T172101Z
LAST-MODIFIED:20141029T172101Z
UID:1221-1414607400-1414614600@sheridanbrand.com
SUMMARY:Fulmer Library - Charlie and the Chocolate Factory Movie
DESCRIPTION:The last Wonka Wednesday is this week! Come join us as we watch the original Charlie and the Chocolate Factory film starring Gene Wilder on Wednesday at 6:30 p.m. in the Inner Circle of the library. All ages welcome! And feel free to bring a pillow or blanket to get comfy! Colored popcorn and fizzy drinks will be served! \n
URL:http://sheridanbrand.com/event/fulmer-library-charlie-and-the-chocolate-factory-movie/
LOCATION:Sheridan County Fulmer Public Library\, 335 West Alger St.\, Sheridan\, 82801
CATEGORIES:Family
ORGANIZER;CN="Sheridan%20County%20Public%20Library%20System":MAILTO:scfpl(at)sheridanwyolibrary.org
END:VEVENT
END:VCALENDAR