BEGIN:VCALENDAR
VERSION:2.0
PRODID:-//Sheridan Brand - ECPv4.9.9//NONSGML v1.0//EN
CALSCALE:GREGORIAN
METHOD:PUBLISH
X-WR-CALNAME:Sheridan Brand
X-ORIGINAL-URL:http://sheridanbrand.com
X-WR-CALDESC:Events for Sheridan Brand
BEGIN:VTIMEZONE
TZID:America/Denver
BEGIN:DAYLIGHT
TZOFFSETFROM:-0700
TZOFFSETTO:-0600
TZNAME:MDT
DTSTART:20150308T090000
END:DAYLIGHT
BEGIN:STANDARD
TZOFFSETFROM:-0600
TZOFFSETTO:-0700
TZNAME:MST
DTSTART:20151101T080000
END:STANDARD
END:VTIMEZONE
BEGIN:VEVENT
DTSTART;TZID=America/Denver:20150103T180000
DTEND;TZID=America/Denver:20150103T220000
DTSTAMP:20260425T113731
CREATED:20141231T164807Z
LAST-MODIFIED:20141231T164807Z
UID:1607-1420308000-1420322400@sheridanbrand.com
SUMMARY:Kate's Kause Fundraiser @ Black Tooth Brewing Company
DESCRIPTION:
URL:http://sheridanbrand.com/event/kates-kause-fundraiser-black-tooth-brewing-company/
LOCATION:Black Tooth Brewing Company\, 312 Broadway St.\, Sheridan\, 82801
CATEGORIES:Community
ATTACH;FMTTYPE=image/jpeg:http://sheridanbrand.com/wp-content/uploads/2014/12/kates-kause.jpg
ORGANIZER;CN="Black%20Tooth%20Brewing%20Company":MAILTO:info(at)blacktoothbrewingcompany.com
END:VEVENT
END:VCALENDAR