BEGIN:VCALENDAR
VERSION:2.0
PRODID:-//Sheridan Brand - ECPv4.9.9//NONSGML v1.0//EN
CALSCALE:GREGORIAN
METHOD:PUBLISH
X-WR-CALNAME:Sheridan Brand
X-ORIGINAL-URL:http://sheridanbrand.com
X-WR-CALDESC:Events for Sheridan Brand
BEGIN:VTIMEZONE
TZID:America/Denver
BEGIN:DAYLIGHT
TZOFFSETFROM:-0700
TZOFFSETTO:-0600
TZNAME:MDT
DTSTART:20140309T090000
END:DAYLIGHT
BEGIN:STANDARD
TZOFFSETFROM:-0600
TZOFFSETTO:-0700
TZNAME:MST
DTSTART:20141102T080000
END:STANDARD
END:VTIMEZONE
BEGIN:VEVENT
DTSTART;TZID=America/Denver:20140913T193000
DTEND;TZID=America/Denver:20140913T230000
DTSTAMP:20260425T024048
CREATED:20140913T231618Z
LAST-MODIFIED:20140913T231618Z
UID:762-1410636600-1410649200@sheridanbrand.com
SUMMARY:Luminous Brewhouse - Live Music
DESCRIPTION:
URL:http://sheridanbrand.com/event/luminous-brewhouse-live-music/
LOCATION:Luminous Brewhouse\, 201 Broadway St.\, Sheridan\, 82801
CATEGORIES:Adult
ATTACH;FMTTYPE=image/jpeg:http://sheridanbrand.com/wp-content/uploads/2014/09/10402859_340198499465963_3081744532441057434_n.jpg
ORGANIZER;CN="Luminous%20Brewhouse":MAILTO:luminousbrewhouse(at)gmail.com
END:VEVENT
END:VCALENDAR