BEGIN:VCALENDAR
VERSION:2.0
PRODID:-//Sheridan Brand - ECPv4.9.9//NONSGML v1.0//EN
CALSCALE:GREGORIAN
METHOD:PUBLISH
X-WR-CALNAME:Sheridan Brand
X-ORIGINAL-URL:http://sheridanbrand.com
X-WR-CALDESC:Events for Sheridan Brand
BEGIN:VTIMEZONE
TZID:America/Denver
BEGIN:DAYLIGHT
TZOFFSETFROM:-0700
TZOFFSETTO:-0600
TZNAME:MDT
DTSTART:20140309T090000
END:DAYLIGHT
BEGIN:STANDARD
TZOFFSETFROM:-0600
TZOFFSETTO:-0700
TZNAME:MST
DTSTART:20141102T080000
END:STANDARD
END:VTIMEZONE
BEGIN:VEVENT
DTSTART;TZID=America/Denver:20141025T073000
DTEND;TZID=America/Denver:20141025T093000
DTSTAMP:20260425T035415
CREATED:20141024T192736Z
LAST-MODIFIED:20141024T193735Z
UID:1194-1414222200-1414229400@sheridanbrand.com
SUMMARY:Saturday Morning Breakfast @Sheridan Senior Center
DESCRIPTION:
URL:http://sheridanbrand.com/event/saturday-morning-breakfast-sheridan-senior-center/
LOCATION:Sheridan Senior Center\, 211 Smith St.\, Sheridan\, 82801
CATEGORIES:Community
ORGANIZER;CN="Sheridan%20Senior%20Center":MAILTO:info(at)sheridanseniorcenter.org
END:VEVENT
END:VCALENDAR