BEGIN:VCALENDAR
VERSION:2.0
PRODID:-//Sheridan Brand - ECPv4.9.9//NONSGML v1.0//EN
CALSCALE:GREGORIAN
METHOD:PUBLISH
X-WR-CALNAME:Sheridan Brand
X-ORIGINAL-URL:http://sheridanbrand.com
X-WR-CALDESC:Events for Sheridan Brand
BEGIN:VTIMEZONE
TZID:America/Denver
BEGIN:DAYLIGHT
TZOFFSETFROM:-0700
TZOFFSETTO:-0600
TZNAME:MDT
DTSTART:20140309T090000
END:DAYLIGHT
BEGIN:STANDARD
TZOFFSETFROM:-0600
TZOFFSETTO:-0700
TZNAME:MST
DTSTART:20141102T080000
END:STANDARD
END:VTIMEZONE
BEGIN:VEVENT
DTSTART;TZID=America/Denver:20140927T090000
DTEND;TZID=America/Denver:20140927T150000
DTSTAMP:20260425T033723
CREATED:20140924T190926Z
LAST-MODIFIED:20140924T191048Z
UID:898-1411808400-1411830000@sheridanbrand.com
SUMMARY:Sheridan Lady Broncs Invite
DESCRIPTION:The Sheridan Lady Broncs Swim Team will host their only home meet of the season on Saturday beginning at 9:00 am. Friday afternoon\, they will swim against Riverton in a dual starting at 4:00 pm. Go\, Lady Broncs! \n
URL:http://sheridanbrand.com/event/sheridan-lady-broncs-swim-invite/
LOCATION:Early Building Pool\, 620 Lewis St.\, Sheridan\, 82801
CATEGORIES:Community
ATTACH;FMTTYPE=image/jpeg:http://sheridanbrand.com/wp-content/uploads/2014/09/IMG_2952.jpg
END:VEVENT
END:VCALENDAR